BEGIN:VCALENDAR
VERSION:2.0
PRODID:-//wp-events-plugin.com//6.6.3//EN
TZID:Europe/Rome
X-WR-TIMEZONE:Europe/Rome
BEGIN:VEVENT
UID:0-103@povo.diocesitn.it
DTSTART;TZID=Europe/Rome:20210220T000000
DTEND;TZID=Europe/Rome:20210226T000000
DTSTAMP:20210220T085027Z
URL:https://povo.diocesitn.it/events/via-crucis-venerdi-26-febbraio-ore-15
 00-chiesa-povo/
SUMMARY:Via CRUCIS -Venerdì 26 febbraio\, ore 15:00\, chiesa Povo
DESCRIPTION:
END:VEVENT
BEGIN:VTIMEZONE
TZID:Europe/Rome
X-LIC-LOCATION:Europe/Rome
BEGIN:STANDARD
DTSTART:20201025T020000
TZOFFSETFROM:+0200
TZOFFSETTO:+0100
TZNAME:CET
END:STANDARD
END:VTIMEZONE
END:VCALENDAR