BEGIN:VCALENDAR
VERSION:2.0
PRODID:-//wp-events-plugin.com//6.6.3//EN
TZID:Europe/Rome
X-WR-TIMEZONE:Europe/Rome
BEGIN:VEVENT
UID:0-117@povo.diocesitn.it
DTSTART;TZID=Europe/Rome:20210315T000000
DTEND;TZID=Europe/Rome:20210319T000000
DTSTAMP:20210315T153529Z
URL:https://povo.diocesitn.it/events/via-crucis-venerdi-19-marzo-ore-1500/
SUMMARY:VIA CRUCIS -Venerdì 19 marzo\, ore 15:00
DESCRIPTION:
END:VEVENT
BEGIN:VTIMEZONE
TZID:Europe/Rome
X-LIC-LOCATION:Europe/Rome
BEGIN:STANDARD
DTSTART:20201025T020000
TZOFFSETFROM:+0200
TZOFFSETTO:+0100
TZNAME:CET
END:STANDARD
END:VTIMEZONE
END:VCALENDAR