BEGIN:VCALENDAR
VERSION:2.0
PRODID:-//wp-events-plugin.com//6.6.3//EN
TZID:Europe/Rome
X-WR-TIMEZONE:Europe/Rome
BEGIN:VEVENT
UID:0-111@povo.diocesitn.it
DTSTART;TZID=Europe/Rome:20210309T000000
DTEND;TZID=Europe/Rome:20210312T000000
DTSTAMP:20210309T090004Z
URL:https://povo.diocesitn.it/events/venerdi-12-marzo-alle-ore-16-00-la-vi
 a-crucis-in-chiesa-sara-animata-dai-ragazzi-di-v-elem/
SUMMARY:Venerdì 12 marzo alle ore 16.00 la Via Crucis in chiesa sarà anim
 ata dai ragazzi di V elem.
DESCRIPTION:
END:VEVENT
BEGIN:VTIMEZONE
TZID:Europe/Rome
X-LIC-LOCATION:Europe/Rome
BEGIN:STANDARD
DTSTART:20201025T020000
TZOFFSETFROM:+0200
TZOFFSETTO:+0100
TZNAME:CET
END:STANDARD
END:VTIMEZONE
END:VCALENDAR