BEGIN:VCALENDAR
VERSION:2.0
PRODID:-//wp-events-plugin.com//6.6.3//EN
TZID:Europe/Rome
X-WR-TIMEZONE:Europe/Rome
BEGIN:VEVENT
UID:0-107@povo.diocesitn.it
DTSTART;TZID=Europe/Rome:20210303T000000
DTEND;TZID=Europe/Rome:20210305T000000
DTSTAMP:20210303T092017Z
URL:https://povo.diocesitn.it/events/venerdi-05-marzo-ore-16-15-chiesa-pov
 o-via-crucis-animata-dal-gruppo-di-iv-elem/
SUMMARY:Venerdì 05 marzo ore 16.15 chiesa Povo – Via Crucis animata dal 
 gruppo di IV elem.
DESCRIPTION:
END:VEVENT
BEGIN:VTIMEZONE
TZID:Europe/Rome
X-LIC-LOCATION:Europe/Rome
BEGIN:STANDARD
DTSTART:20201025T020000
TZOFFSETFROM:+0200
TZOFFSETTO:+0100
TZNAME:CET
END:STANDARD
END:VTIMEZONE
END:VCALENDAR