BEGIN:VCALENDAR
VERSION:2.0
PRODID:-//wp-events-plugin.com//6.6.3//EN
TZID:Europe/Rome
X-WR-TIMEZONE:Europe/Rome
BEGIN:VEVENT
UID:0-155@povo.diocesitn.it
DTSTART;TZID=Europe/Rome;VALUE=DATE:20210503
DTEND;TZID=Europe/Rome;VALUE=DATE:20210504
DTSTAMP:20210529T074949Z
URL:https://povo.diocesitn.it/events/veglia-di-preghiera-per-le-vocazioni-
 parrocchie-di-povo-e-villazzano-giovedi-3-giugno-ore-2000/
SUMMARY:Veglia di preghiera per le vocazioni (parrocchie di Povo e Villazza
 no) - Giovedì 3 Giugno\, ore 20:00
DESCRIPTION:
END:VEVENT
BEGIN:VTIMEZONE
TZID:Europe/Rome
X-LIC-LOCATION:Europe/Rome
BEGIN:DAYLIGHT
DTSTART:20210328T030000
TZOFFSETFROM:+0100
TZOFFSETTO:+0200
TZNAME:CEST
END:DAYLIGHT
END:VTIMEZONE
END:VCALENDAR