BEGIN:VCALENDAR
VERSION:2.0
PRODID:-//wp-events-plugin.com//6.6.3//EN
TZID:Europe/Rome
X-WR-TIMEZONE:Europe/Rome
BEGIN:VEVENT
UID:0-54@povo.diocesitn.it
DTSTART;TZID=Europe/Rome:20200914T000000
DTEND;TZID=Europe/Rome:20200920T000000
DTSTAMP:20200914T083534Z
URL:https://povo.diocesitn.it/events/seminari-sullafrica/
SUMMARY:Seminari sull'Africa
DESCRIPTION:La rivista Africa  organizza a Milano una serie di seminari\, 
 della durata di due giorni ciascuno\, per tenersi aggiornati e approfondir
 e le proprie conoscenze sul continente africano\n\n\n\n\n\n\n\n\n\nAfrica 
 Rivista    https://www.africarivista.it/\nVia Fabio Massimo\, 19 - 20139
  Milano Italy\ninfo@africarivista.it - Tel: +39.02.57405455\n\n\n\n\n\n\n\
 n\n\n\n\n\n
END:VEVENT
BEGIN:VTIMEZONE
TZID:Europe/Rome
X-LIC-LOCATION:Europe/Rome
BEGIN:DAYLIGHT
DTSTART:20200329T030000
TZOFFSETFROM:+0100
TZOFFSETTO:+0200
TZNAME:CEST
END:DAYLIGHT
END:VTIMEZONE
END:VCALENDAR