BEGIN:VCALENDAR
VERSION:2.0
PRODID:-//wp-events-plugin.com//6.6.3//EN
TZID:Europe/Rome
X-WR-TIMEZONE:Europe/Rome
BEGIN:VEVENT
UID:0-91@povo.diocesitn.it
DTSTART;TZID=Europe/Rome:20210118T000000
DTEND;TZID=Europe/Rome:20210131T000000
DTSTAMP:20210122T091427Z
URL:https://povo.diocesitn.it/events/scuola-di-formazione-teologica-la-cos
 cienza-un-cammino-di-liberta-in-5-incontri-online/
SUMMARY:Scuola di formazione teologica: "La coscienza: un cammino di libert
 à"  in 5 incontri online
DESCRIPTION:L’Azione Cattolica di Trento e la Scuola Diocesana di Formazi
 one Teologica propongono un percorso dal titolo \nLa coscienza: un cammino
  di libertà  in 5 incontri online dalle 20.30 alle 22.00\nLa parola cosc
 ienza rischia di essere associata al moralismo. Invece\, parlare di coscie
 nza significa parlare di libertà. Una libertà complessa che riguarda il 
 centro della propria persona e delle proprie scelte\, ma anche il rapporto
  con gli altri\, perfino con le istituzioni di cui ciascuno di noi fa part
 e. Politica\, Chiesa\, Stato.\nIn una prospettiva ampia\, il percorso vuol
 e affrontare parole come bene e male\, obbedienza e dissenso\, responsabil
 ità\, democrazia\, spiritualità. Varie prospettive che trovano il loro e
 quilibrio nella possibilità di un cammino di libertà.\n\nPer partecipare
  è necessaria l’iscrizione inviando una mail scuolateologia@diocesitn.i
 t  o compilando il modulo riportato sul sito raggiungibile tramite il pre
 sente link\nLa partecipazione al percorso è  gratuita\n\n\nE' possibile 
 fare un’offerta (libera) utilizzando le seguenti coordinate:\nIntestazio
 ne: Arcidiocesi di Trento\, IBAN: IT82 D030 6901 8560 0001 2137 748\nCausa
 le: Percorso SDFT Coscienza 2021\n\nInformazioni\nscuolateologia@diocesitn
 .it\ntel. 0461-912.007/0461-360.211
END:VEVENT
BEGIN:VTIMEZONE
TZID:Europe/Rome
X-LIC-LOCATION:Europe/Rome
BEGIN:STANDARD
DTSTART:20201025T020000
TZOFFSETFROM:+0200
TZOFFSETTO:+0100
TZNAME:CET
END:STANDARD
END:VTIMEZONE
END:VCALENDAR