BEGIN:VCALENDAR
VERSION:2.0
PRODID:-//wp-events-plugin.com//6.6.3//EN
TZID:Europe/Rome
X-WR-TIMEZONE:Europe/Rome
BEGIN:VEVENT
UID:0-97@povo.diocesitn.it
DTSTART;TZID=Europe/Rome:20210201T000000
DTEND;TZID=Europe/Rome:20210206T000000
DTSTAMP:20210202T080432Z
URL:https://povo.diocesitn.it/events/sabato-6-febbraio-ore-9-30-chiesa-di-
 povo-catechesi-iv-elem/
SUMMARY:CATEHESI IV elem - Sabato 6 febbraio ore  9.30\, chiesa di  Po
 vo
DESCRIPTION:&nbsp\;\n\n&nbsp\;
END:VEVENT
BEGIN:VTIMEZONE
TZID:Europe/Rome
X-LIC-LOCATION:Europe/Rome
BEGIN:STANDARD
DTSTART:20201025T020000
TZOFFSETFROM:+0200
TZOFFSETTO:+0100
TZNAME:CET
END:STANDARD
END:VTIMEZONE
END:VCALENDAR