BEGIN:VCALENDAR
VERSION:2.0
PRODID:-//wp-events-plugin.com//6.6.3//EN
TZID:Europe/Rome
X-WR-TIMEZONE:Europe/Rome
BEGIN:VEVENT
UID:0-68@povo.diocesitn.it
DTSTART;TZID=Europe/Rome;VALUE=DATE:20201023
DTEND;TZID=Europe/Rome;VALUE=DATE:20201101
DTSTAMP:20201028T142039Z
URL:https://povo.diocesitn.it/events/sabato-31-ottobre-confessioni-dalle-1
 500-alle-1700/
SUMMARY:Sabato 31 Ottobre - Confessioni\, dalle 15:00 alle 17:00 - Messa pr
 e-festiva: 18:30
DESCRIPTION:PARROCCHIA SANTI PIETRO E ANDREA – POVO\nSOLENNITA’ DI TUTT
 I SANTI E COMMEMORAZIONE DEFUNTI\nOrari celebrazioni\nSABATO 31 ottobre 
        dalle ore 15.00 alle 17.00 Confessioni\n\nSABATO 31 ottobre 
        ore    18.30   S.Messa pre-festiva\n\nDOMENICA  1 novemb
 re       Solennità di Tutti Santi\n\nore      8.00    S.Mess
 a\n\nore    10.00   S.Messa\n\nore    14.30   al cimitero: liturgi
 a della Parola\, ricordo di tutti i defunti dell’anno\, e benedizione de
 lle tombe.\n\nNB: Il protocollo del Comune di Trento prevede alcune dispos
 izioni\, quali:\n\n1)           è obbligatorio indossare\, corr
 ettamente ed in modo continuativo\, adeguata protezione delle vie respirat
 orie\;\n\n2)           è obbligatorio mantenere in ogni circost
 anza la prescritta distanza di sicurezza interpersonale\, ad eccezione per
  le persone tra loro conviventi\;\n\n3)           è obbligatori
 o disinfettare le mani all’ingresso e all’uscita\;.\n\n4)      
      per la visita ai defunti e la partecipazione alle celebrazioni ci
 vili e religiose\, sono ammesse al massimo 2 persone per defunto\;\n\n5) 
           per il cimitero di Povo\, inoltre\, il protocollo ammet
 te un numero massimo di 300 persone.\n\nLUNEDI’  2 novembre     Com
 memorazione fedeli defunti\n\nore      8.00    S.Messa\n\nore    
 20.00   S.Messa col ricordo dei defunti dell’anno.\n\nL’indulgenza p
 lenaria per i defunti può essere acquistata dall’1 all’8 novembre.
END:VEVENT
BEGIN:VTIMEZONE
TZID:Europe/Rome
X-LIC-LOCATION:Europe/Rome
BEGIN:DAYLIGHT
DTSTART:20200329T030000
TZOFFSETFROM:+0100
TZOFFSETTO:+0200
TZNAME:CEST
END:DAYLIGHT
BEGIN:STANDARD
DTSTART:20201025T020000
TZOFFSETFROM:+0200
TZOFFSETTO:+0100
TZNAME:CET
END:STANDARD
END:VTIMEZONE
END:VCALENDAR