BEGIN:VCALENDAR
VERSION:2.0
PRODID:-//wp-events-plugin.com//6.6.3//EN
TZID:Europe/Rome
X-WR-TIMEZONE:Europe/Rome
BEGIN:VEVENT
UID:0-140@povo.diocesitn.it
DTSTART;TZID=Europe/Rome;VALUE=DATE:20210501
DTEND;TZID=Europe/Rome;VALUE=DATE:20210502
DTSTAMP:20210501T132823Z
URL:https://povo.diocesitn.it/events/sabato-1-maggio-lacli-di-povo-anima-l
 a-s-messa-delle-18-30-2/
SUMMARY:Sabato 1 maggio\, l'ACLI di Povo anima la S.Messa delle 18.30
DESCRIPTION:
END:VEVENT
BEGIN:VTIMEZONE
TZID:Europe/Rome
X-LIC-LOCATION:Europe/Rome
BEGIN:DAYLIGHT
DTSTART:20210328T030000
TZOFFSETFROM:+0100
TZOFFSETTO:+0200
TZNAME:CEST
END:DAYLIGHT
END:VTIMEZONE
END:VCALENDAR