BEGIN:VCALENDAR
VERSION:2.0
PRODID:-//wp-events-plugin.com//6.6.3//EN
TZID:Europe/Rome
X-WR-TIMEZONE:Europe/Rome
BEGIN:VEVENT
UID:0-131@povo.diocesitn.it
DTSTART;TZID=Europe/Rome:20210501T000000
DTEND;TZID=Europe/Rome:20210501T000000
DTSTAMP:20210425T065515Z
URL:https://povo.diocesitn.it/events/sabato-1-maggio-lacli-anima-la-s-mess
 a-delle-1000/
SUMMARY:Sabato 1 Maggio - l'ACLI anima la S. Messa delle 18:30
DESCRIPTION:Sabato 1 maggio ore 18.30 In occasione della festa di S. Giusep
 pe lavoratore\,\n\nla S.Messa è animata dagli aclisti di Povo.
END:VEVENT
BEGIN:VTIMEZONE
TZID:Europe/Rome
X-LIC-LOCATION:Europe/Rome
BEGIN:DAYLIGHT
DTSTART:20210328T030000
TZOFFSETFROM:+0100
TZOFFSETTO:+0200
TZNAME:CEST
END:DAYLIGHT
END:VTIMEZONE
END:VCALENDAR