BEGIN:VCALENDAR
VERSION:2.0
PRODID:-//wp-events-plugin.com//6.6.3//EN
TZID:Europe/Rome
X-WR-TIMEZONE:Europe/Rome
BEGIN:VEVENT
UID:0-177@povo.diocesitn.it
DTSTART;TZID=Europe/Rome:20220227T000000
DTEND;TZID=Europe/Rome:20220507T000000
DTSTAMP:20220411T183612Z
URL:https://povo.diocesitn.it/events/prossimi-appuntamenti-a-teatro/
SUMMARY:Prossimi appuntamenti a Teatro
DESCRIPTION:&nbsp\;\n\n\n\ninfo e prenotazioni a infoteatroconcordia@gmail.
 com
END:VEVENT
BEGIN:VTIMEZONE
TZID:Europe/Rome
X-LIC-LOCATION:Europe/Rome
BEGIN:STANDARD
DTSTART:20211031T020000
TZOFFSETFROM:+0200
TZOFFSETTO:+0100
TZNAME:CET
END:STANDARD
BEGIN:DAYLIGHT
DTSTART:20220327T030000
TZOFFSETFROM:+0100
TZOFFSETTO:+0200
TZNAME:CEST
END:DAYLIGHT
END:VTIMEZONE
END:VCALENDAR