BEGIN:VCALENDAR
VERSION:2.0
PRODID:-//wp-events-plugin.com//6.6.3//EN
TZID:Europe/Rome
X-WR-TIMEZONE:Europe/Rome
BEGIN:VEVENT
UID:0-176@povo.diocesitn.it
DTSTART;TZID=Europe/Rome:20220215T000000
DTEND;TZID=Europe/Rome:20220216T000000
DTSTAMP:20220215T171554Z
URL:https://povo.diocesitn.it/events/preghiera-per-la-pace-mercoledi-16-02
 -2022/
SUMMARY:Preghiera per la pace mercoledì 16/02/2022
DESCRIPTION:PREGHIERA\nPER LA PACE\n \n\n&nbsp\;\nSu invito del Vescovo La
 uro\nmercoledì 16 p.v. ad ore 20:00\nmettere candela accesa alla finestra
 \nsuoneranno anche le campane\n* * *\nOre 20:30 è possibile seguire\,\non
 -line\, la veglia di preghiera\nin Duomo.
END:VEVENT
BEGIN:VTIMEZONE
TZID:Europe/Rome
X-LIC-LOCATION:Europe/Rome
BEGIN:STANDARD
DTSTART:20211031T020000
TZOFFSETFROM:+0200
TZOFFSETTO:+0100
TZNAME:CET
END:STANDARD
END:VTIMEZONE
END:VCALENDAR