BEGIN:VCALENDAR
VERSION:2.0
PRODID:-//wp-events-plugin.com//6.6.3//EN
TZID:Europe/Rome
X-WR-TIMEZONE:Europe/Rome
BEGIN:VEVENT
UID:0-158@povo.diocesitn.it
DTSTART;TZID=Europe/Rome:20211019T150000
DTEND;TZID=Europe/Rome:20211019T154500
DTSTAMP:20211018T174337Z
URL:https://povo.diocesitn.it/events/preghiera-del-santo-rosario/
SUMMARY:Preghiera del santo rosario
DESCRIPTION:Martedì 19 ottobre ore 15.00 in chiesa parrocchiale recita del
  santo Rosario
CATEGORIES:Recita santo Rosario i martedì di ottobre 2021
END:VEVENT
BEGIN:VTIMEZONE
TZID:Europe/Rome
X-LIC-LOCATION:Europe/Rome
BEGIN:DAYLIGHT
DTSTART:20210328T030000
TZOFFSETFROM:+0100
TZOFFSETTO:+0200
TZNAME:CEST
END:DAYLIGHT
END:VTIMEZONE
END:VCALENDAR