BEGIN:VCALENDAR
VERSION:2.0
PRODID:-//wp-events-plugin.com//6.6.3//EN
TZID:Europe/Rome
X-WR-TIMEZONE:Europe/Rome
BEGIN:VEVENT
UID:0-55@povo.diocesitn.it
DTSTART;TZID=Europe/Rome:20200921T000000
DTEND;TZID=Europe/Rome:20200927T000000
DTSTAMP:20200923T065739Z
URL:https://povo.diocesitn.it/events/pillole-di-saggezza/
SUMMARY:Pillole di saggezza
DESCRIPTION:\nDio ci ha creati dal nulla\, ma non per nulla\nH. Roth \n\n\n
 \nSe riesci a tradurre in parole ciò che senti\, ti appartiene\n\nH. Roth
 \n\n\n\n\nAndré Luis\n«Chi alimenta l’odio getta fuoco nel proprio cuo
 re»\, scrive André Luis.\nSe qualcuno ti amareggiò\, se ti offese con c
 alunnie\, non imitarlo\, ripetendo gli stessi sbagli.\nCollocati più in a
 lto di lui e sappilo scusare. Cerca di dimenticare\, perché il pensiero n
 egativo della\nrabbia attira su di noi l’onda della cattiveria\, che il 
 nostro infelice avversario lancia contro di noi.\nPer essere felice\, sapp
 i scusare e dimenticare.\n\n\n\n\nAlessandro Manzoni: Regala ciò che non 
 hai \n\n\n\nOccupati dei guai\,\ndei problemi del tuo prossimo.\n\nPrendit
 i a cuore gli affanni\,\nle esigenze di chi ti sta vicino.\nRegala agli al
 tri la luce che non hai\,\nla forza che non possiedi\,\nla speranza che se
 nti vacillare in te\,\nla fiducia di cui tu sei privo.\n\nIlluminali dal t
 uo buio.\nArricchiscili con la tua povertà.\nRegala un sorriso\nquando ha
 i voglia di piangere.\nProduci serenità\ndalla tempesta che hai dentro.\n
 ‘Ecco\, quello che non ho\, te lo do’.\nQuesto è il tuo paradosso.\nT
 i accorgerai che la gioia\na poco a poco entrerà in te\,\ninvaderà il tu
 o essere\,\ndiventerà veramente tua\nnella misura in cui\nl’avrai regal
 ata agli altri.\n\nAlessandro Manzoni\n\n
END:VEVENT
BEGIN:VTIMEZONE
TZID:Europe/Rome
X-LIC-LOCATION:Europe/Rome
BEGIN:DAYLIGHT
DTSTART:20200329T030000
TZOFFSETFROM:+0100
TZOFFSETTO:+0200
TZNAME:CEST
END:DAYLIGHT
END:VTIMEZONE
END:VCALENDAR