BEGIN:VCALENDAR
VERSION:2.0
PRODID:-//wp-events-plugin.com//6.6.3//EN
TZID:Europe/Rome
X-WR-TIMEZONE:Europe/Rome
BEGIN:VEVENT
UID:0-156@povo.diocesitn.it
DTSTART;TZID=Europe/Rome;VALUE=DATE:20210503
DTEND;TZID=Europe/Rome;VALUE=DATE:20210504
DTSTAMP:20210529T075823Z
URL:https://povo.diocesitn.it/events/ore-2000-chiesa-di-povo-veglia-di-pre
 ghiera-per-le-vocazioni-parrocchie-di-povo-e-villazzano/
SUMMARY:ore 20:00 chiesa di Povo – Veglia di preghiera per le vocazioni (
 parrocchie di Povo e Villazzano).
DESCRIPTION:
END:VEVENT
BEGIN:VTIMEZONE
TZID:Europe/Rome
X-LIC-LOCATION:Europe/Rome
BEGIN:DAYLIGHT
DTSTART:20210328T030000
TZOFFSETFROM:+0100
TZOFFSETTO:+0200
TZNAME:CEST
END:DAYLIGHT
END:VTIMEZONE
END:VCALENDAR