BEGIN:VCALENDAR
VERSION:2.0
PRODID:-//wp-events-plugin.com//6.6.3//EN
TZID:Europe/Rome
X-WR-TIMEZONE:Europe/Rome
BEGIN:VEVENT
UID:0-157@povo.diocesitn.it
DTSTART;TZID=Europe/Rome;VALUE=DATE:20210603
DTEND;TZID=Europe/Rome;VALUE=DATE:20210604
DTSTAMP:20210602T081620Z
URL:https://povo.diocesitn.it/events/ore-2000-chiesa-di-povo-veglia-di-pre
 ghiera-per-le-vocazioni-parrocchie-di-povo-e-villazzano-2/
SUMMARY:Giovedì 3 Giugno\, ore 20:00 – La veglia di preghiera per le voc
 azioni nelle parrocchie di giovedì 3 giugno\, ore 20:00 è sostituita dal
 la Santa Messa celebrata per il Corpus Domini dal Vescovo Lauro\, in Semin
 ario\,  in diretta streaming audio. Si pregherà anche per le vocazioni.
DESCRIPTION:\nCorpus Domini\, Messa in Seminario giovedì 3 giugno alle 20 
 con l’Arcivescovo. Si pregherà anche per le vocazioni. DIRETTA streamin
 g audio\n\n\nAnche quest’anno nella solennità del Santissimo Corpo e Sa
 ngue del Signore (Corpus Domini) – domenica prossima\, 6 giugno –  no
 n sarà possibile la tradizionale processione con il Sacramento dell’Euc
 aristia\, percorrendo le strade della vita quotidiana\, tra le case segnat
 e dalla pandemia.\nAlle ore 20 del 3 giugno\, primo giovedì del mese (mem
 oria del Giovedì Santo\, quando Gesù istituì il Sacramento dell’Eucar
 istia e quello dell’Ordine sacro)\, l’arcivescovo Lauro presiede l’E
 ucaristia nella chiesa del Seminario diocesano\, con i seminaristi e i rel
 igiosi della città.\n“Al termine della Messa – spiega il liturgista d
 on Giulio Viviani – seguirà una breve adorazione di quel Pane consacrat
 o\, che tante volte abbiamo ricevuto\, per essere capaci di portarlo dentr
 o di noi sulle vie di ogni giorno\, nelle case e nelle famiglie\, nei luog
 hi di vita e di lavoro\, con le nostre parole ispirate alla Parola\, con i
  nostri gesti di carità sul modello di Cristo\, che si è donato a noi ne
 l suo Corpo e nel suo Sangue. Adoriamo il Signore Gesù Cristo\, “venut
 o come sommo sacerdote dei beni eterni”\, che “in virtù del proprio s
 angue ci ha così ottenuto una redenzione eterna” (cfr Ebr 9\, 11-12)”
 .\nLa Messa del 3 giugno alle 20 sarà trasmessa in diretta streaming (sol
 o audio) sul canale YouTube della Diocesi.   \nEssendo il primo giovedì
  del mese\, la Messa sostituirà anche la veglia vocazionale “Con gli oc
 chi di Dio” (appuntamento mensile avviato in autunno) e diverrà quindi 
 l’occasione per invocare ancora il dono di nuove vocazioni\, di risposte
  generose alla vita sacerdotale e diaconale\, a quella religiosa\, consacr
 ata e missionaria e alla vita matrimoniale.\nNell’intento di contribuire
  a tenere alta la considerazione del culto eucaristico nelle comunità\, p
 er questa occasione vengono offerte alcune tracce di preghiera di adorazio
 ne (curate da don Viviani e sotto allegate) da utilizzare secondo opportun
 ità nella celebrazione domenicale.\n\n
END:VEVENT
BEGIN:VTIMEZONE
TZID:Europe/Rome
X-LIC-LOCATION:Europe/Rome
BEGIN:DAYLIGHT
DTSTART:20210328T030000
TZOFFSETFROM:+0100
TZOFFSETTO:+0200
TZNAME:CEST
END:DAYLIGHT
END:VTIMEZONE
END:VCALENDAR