BEGIN:VCALENDAR
VERSION:2.0
PRODID:-//wp-events-plugin.com//6.6.3//EN
TZID:Europe/Rome
X-WR-TIMEZONE:Europe/Rome
BEGIN:VEVENT
UID:0-119@povo.diocesitn.it
DTSTART;TZID=Europe/Rome:20210325T000000
DTEND;TZID=Europe/Rome:20210326T000000
DTSTAMP:20210320T090414Z
URL:https://povo.diocesitn.it/events/oggi-vvenerdi-26-marzo-ore-15-00-via-
 crucis-in-chiesa/
SUMMARY:Venerdì 26 marzo - ore 15.00 - VIA CRUCIS - in chiesa
DESCRIPTION:
END:VEVENT
BEGIN:VTIMEZONE
TZID:Europe/Rome
X-LIC-LOCATION:Europe/Rome
BEGIN:STANDARD
DTSTART:20201025T020000
TZOFFSETFROM:+0200
TZOFFSETTO:+0100
TZNAME:CET
END:STANDARD
END:VTIMEZONE
END:VCALENDAR