BEGIN:VCALENDAR
VERSION:2.0
PRODID:-//wp-events-plugin.com//6.6.3//EN
TZID:Europe/Rome
X-WR-TIMEZONE:Europe/Rome
BEGIN:VEVENT
UID:0-174@povo.diocesitn.it
DTSTART;TZID=Europe/Rome;VALUE=DATE:20220202
DTEND;TZID=Europe/Rome;VALUE=DATE:20220224
DTSTAMP:20220202T084034Z
URL:https://povo.diocesitn.it/events/modifica-orario-santa-messa-del-merco
 ledi-dalle-ore-20-00-alle-ore-18-30/
SUMMARY:Modifica orario santa Messa del mercoledì dalle ore 20.00 alle ore
  18.30
DESCRIPTION:
CATEGORIES:Avvisi parrocchiali
END:VEVENT
BEGIN:VTIMEZONE
TZID:Europe/Rome
X-LIC-LOCATION:Europe/Rome
BEGIN:STANDARD
DTSTART:20211031T020000
TZOFFSETFROM:+0200
TZOFFSETTO:+0100
TZNAME:CET
END:STANDARD
END:VTIMEZONE
END:VCALENDAR