BEGIN:VCALENDAR
VERSION:2.0
PRODID:-//wp-events-plugin.com//6.6.3//EN
TZID:Europe/Rome
X-WR-TIMEZONE:Europe/Rome
BEGIN:VEVENT
UID:0-100@povo.diocesitn.it
DTSTART;TZID=Europe/Rome:20210214T000000
DTEND;TZID=Europe/Rome:20210217T000000
DTSTAMP:20210214T145225Z
URL:https://povo.diocesitn.it/events/mercoledi-delle-ceneri-s-messe-ore-17
 00-e-2000/
SUMMARY:Mercoledì delle Ceneri: S. Messe ore 17:00 e 20:00
DESCRIPTION:
END:VEVENT
BEGIN:VTIMEZONE
TZID:Europe/Rome
X-LIC-LOCATION:Europe/Rome
BEGIN:STANDARD
DTSTART:20201025T020000
TZOFFSETFROM:+0200
TZOFFSETTO:+0100
TZNAME:CET
END:STANDARD
END:VTIMEZONE
END:VCALENDAR