BEGIN:VCALENDAR
VERSION:2.0
PRODID:-//wp-events-plugin.com//6.6.3//EN
TZID:Europe/Rome
X-WR-TIMEZONE:Europe/Rome
BEGIN:VEVENT
UID:0-149@povo.diocesitn.it
DTSTART;TZID=Europe/Rome;VALUE=DATE:20210529
DTEND;TZID=Europe/Rome;VALUE=DATE:20210530
DTSTAMP:20210522T080239Z
URL:https://povo.diocesitn.it/events/matrimonio-religioso/
SUMMARY:Matrimonio religioso
DESCRIPTION:Sabato    29 maggio    Ore 11.00\n\nChiesa di Povo - celebr
 azione matrimonio di Anna Puecher e Andrea Rensi.
END:VEVENT
BEGIN:VTIMEZONE
TZID:Europe/Rome
X-LIC-LOCATION:Europe/Rome
BEGIN:DAYLIGHT
DTSTART:20210328T030000
TZOFFSETFROM:+0100
TZOFFSETTO:+0200
TZNAME:CEST
END:DAYLIGHT
END:VTIMEZONE
END:VCALENDAR