BEGIN:VCALENDAR
VERSION:2.0
PRODID:-//wp-events-plugin.com//6.6.3//EN
TZID:Europe/Rome
X-WR-TIMEZONE:Europe/Rome
BEGIN:VEVENT
UID:0-115@povo.diocesitn.it
DTSTART;TZID=Europe/Rome:20210315T000000
DTEND;TZID=Europe/Rome:20210321T000000
DTSTAMP:20210315T093304Z
URL:https://povo.diocesitn.it/events/la-chiesa-sul-doss-in-onda-su-telepac
 e/
SUMMARY:La chiesa sul Doss in onda su Telepace
DESCRIPTION:14 Marzo 2021: Il Circolo Oratorio informa\nVenerdì 12 marzo s
 ul Doss s.Agata sono saliti gli operatori di Telepace Trento con un sacerd
 ote\, per registrare alcuni momenti di preghiera e di illustrazione della 
 chiesetta. Verranno trasmessi sul canale 601 di Telepace Trento\, la setti
 mana prossima  alle ore 20.10\, tutti i giorni. Ad accompagnarli il presi
 dente della Circoscrizione di Povo.\n\n&nbsp\;
END:VEVENT
BEGIN:VTIMEZONE
TZID:Europe/Rome
X-LIC-LOCATION:Europe/Rome
BEGIN:STANDARD
DTSTART:20201025T020000
TZOFFSETFROM:+0200
TZOFFSETTO:+0100
TZNAME:CET
END:STANDARD
END:VTIMEZONE
END:VCALENDAR