BEGIN:VCALENDAR
VERSION:2.0
PRODID:-//wp-events-plugin.com//6.6.3//EN
TZID:Europe/Rome
X-WR-TIMEZONE:Europe/Rome
BEGIN:VEVENT
UID:0-41@povo.diocesitn.it
DTSTART;TZID=Europe/Rome:20200516T000000
DTEND;TZID=Europe/Rome:20200524T000000
DTSTAMP:20200520T074404Z
URL:https://povo.diocesitn.it/events/invito-del-papa-alla-settimana-laudat
 o-si/
SUMMARY:Invito del papa alla settimana "Laudato si' " - Video-messaggio
DESCRIPTION:﻿﻿﻿﻿﻿﻿﻿﻿﻿﻿﻿﻿﻿﻿﻿﻿﻿﻿﻿﻿﻿
 ﻿﻿﻿﻿﻿﻿﻿﻿\nProgetto "Laudato si' "\n\n
END:VEVENT
BEGIN:VTIMEZONE
TZID:Europe/Rome
X-LIC-LOCATION:Europe/Rome
BEGIN:DAYLIGHT
DTSTART:20200329T030000
TZOFFSETFROM:+0100
TZOFFSETTO:+0200
TZNAME:CEST
END:DAYLIGHT
END:VTIMEZONE
END:VCALENDAR