BEGIN:VCALENDAR
VERSION:2.0
PRODID:-//wp-events-plugin.com//6.6.3//EN
TZID:Europe/Rome
X-WR-TIMEZONE:Europe/Rome
BEGIN:VEVENT
UID:0-38@povo.diocesitn.it
DTSTART;TZID=Europe/Rome:20200501T000000
DTEND;TZID=Europe/Rome:20200531T000000
DTSTAMP:20200519T193418Z
URL:https://povo.diocesitn.it/events/invito-del-papa-a-maggio-recitate-il-
 rosario-in-famiglia-2/
SUMMARY:Invito del papa: A maggio recitate il rosario in famiglia!
DESCRIPTION:Parrocchia Santi Pietro e Andrea -Povo3\nPreghiera suggerita da
  PAPA FRANCESCO da rivolgere a Maria al termine del S. Rosario nel mese di
  Maggio 2020\n«Sotto la tua protezione cerchiamo rifugio\, Santa Madre di
  Dio».\nNella presente situazione drammatica\, carica di sofferenze e di 
 angosce che attanagliano il mondo intero\, ricorriamo a Te\, Madre di Dio 
 e Madre nostra\n.O Vergine Maria\, volgi a noi i tuoi occhi misericordiosi
  in questa pandemia del coronavirus\, e conforta quanti sono smarriti e pi
 angenti per i loro cari morti\, sepolti a volte in un modo che ferisce l
 ’anima. Sostieni quanti sono angosciati per le persone ammalate alle qua
 li\, per impedire il contagio\, non possono stare vicini. Infondi fiducia 
 in chi è in ansia per il futuro incerto e per le conseguenze sull’econo
 mia e sul lavoro.\nProteggi i medici\, gli infermieri\, il personale sanit
 ario\, i volontari che in questo periodo di emergenza sono in prima linea 
 e mettono la loro vita a rischio per salvare altre vite. Accompagna la lor
 o eroica fatica e dona loro forza\, bontà e salute.\nSii accanto a coloro
  che notte e giorno assistono i malati e ai sacerdoti che\, con sollecitud
 ine pastorale e impegno evangelico\, cercano di aiutare e sostenere tutti.
 \nVergine Santa\, illumina le menti degli uomini e delle donne di scienza\
 , perché trovino giuste soluzioni per vincere questo virus.\nAssisti i Re
 sponsabili delle Nazioni\, perché operino con saggezza\, sollecitudine e 
 generosità\, soccorrendo quanti mancano del necessario per vivere\, progr
 ammando soluzioni sociali ed economiche con lungimiranza e con spirito di 
 solidarietà.\nMaria Santissima\, tocca le coscienze perché le ingenti so
 mme usate per accrescere e perfezionare gli armamenti siano invece destina
 te a promuovere adeguati studi per prevenire simili catastrofi in futuro.\
 nMadre amatissima\, fa’ crescere nel mondo il senso di appartenenza ad u
 n’unica grande famiglia\, nella consapevolezza del legame che tutti unis
 ce\, perché con spirito fraterno e solidale veniamo in aiuto alle tante p
 overtà e situazioni di miseria. Incoraggia la fermezza nella fede\, la pe
 rseveranza nel servire\, la costanza nel pregare.\nO Maria\, Consolatrice 
 degli afflitti\, abbraccia tutti i tuoi figli tribolati e ottieni che Dio 
 intervenga con la sua mano onnipotente a liberarci da questa terribile epi
 demia\, cosicché la vita possa riprendere in serenità il suo corso norma
 le.\nCi affidiamo a Te\, che risplendi sul nostro cammino come segno di sa
 lvezza e di speranza\, o clemente\, o pia\, o dolce Vergine Maria. Amen.\n
 Misteri del Rosario e Preghiera suggerita dal papa al termine del rosario
END:VEVENT
BEGIN:VTIMEZONE
TZID:Europe/Rome
X-LIC-LOCATION:Europe/Rome
BEGIN:DAYLIGHT
DTSTART:20200329T030000
TZOFFSETFROM:+0100
TZOFFSETTO:+0200
TZNAME:CEST
END:DAYLIGHT
END:VTIMEZONE
END:VCALENDAR