BEGIN:VCALENDAR
VERSION:2.0
PRODID:-//wp-events-plugin.com//6.6.3//EN
TZID:Europe/Rome
X-WR-TIMEZONE:Europe/Rome
BEGIN:VEVENT
UID:0-64@povo.diocesitn.it
DTSTART;TZID=Europe/Rome:20201024T150000
DTEND;TZID=Europe/Rome:20201024T163000
DTSTAMP:20201022T134229Z
URL:https://povo.diocesitn.it/events/introduzione-del-vescovo-alla-cateche
 si-per-adulti/
SUMMARY:Sabato 24 ottobre - Introduzione del Vescovo alla catechesi per adu
 lti
DESCRIPTION:\n“Sulla Tua Parola” con l’arcivescovo Lauro sabato in DI
 RETTA TV e STREAMING dalla Cattedrale. \nAl centro le Beatitudini\nTorna s
 abato 24 ottobre l’appuntamento diocesano con “Sulla tua Parola”\, i
 nsieme al vescovo Lauro. L’emergenza Covid condiziona inevitabilmente il
  programma: l’appuntamento non sarà (come inizialmente previsto) a Tren
 to nella chiesa del Santissimo ma in Cattedrale dalle ore 15.00 alle 16.30
 . Si potrà seguire in diretta Tv su Telepace Trento (canale 601 del digit
 ale terrestre) e in streaming sui portali diocesani e sul canale YouTube d
 ella Diocesi QUI LINK.\n\n\n\n\n“Sulla tua Parola – precisa il Servizi
 o Catechesi della Diocesi – è una proposta che invita a frequentare con
  semplicità e curiosità il Vangelo\, con l’obiettivo di ‘conoscere G
 esù per poterlo riconoscere’\, come suggerisce papa Francesco. Il diffi
 cile momento che stiamo vivendo rende complicato incontrarsi. E’ bello p
 erò pensare ad una comunità che\, pur distante fisicamente\, è unita ne
 lla preghiera e nella conoscenza di Gesù”.\nLa riflessione di monsignor
  Tisi partirà dal vangelo secondo Matteo 5\,1-12 (Beatitudini). Nelle sco
 rse settimane alcuni gruppi della parrocchia Santa Maria del Monte Carmelo
  di Rovereto hanno riflettuto e pregato intorno al brano delle Beatitudini
 . Le domande che sono emerse in questi gruppi aiuteranno e stimoleranno il
  vescovo Lauro nel suo intervento.\nIl coro parrocchiale di Piedicastello 
 animerà l’incontro.\n\n
END:VEVENT
BEGIN:VTIMEZONE
TZID:Europe/Rome
X-LIC-LOCATION:Europe/Rome
BEGIN:DAYLIGHT
DTSTART:20200329T030000
TZOFFSETFROM:+0100
TZOFFSETTO:+0200
TZNAME:CEST
END:DAYLIGHT
END:VTIMEZONE
END:VCALENDAR