BEGIN:VCALENDAR
VERSION:2.0
PRODID:-//wp-events-plugin.com//6.6.3//EN
TZID:Europe/Rome
X-WR-TIMEZONE:Europe/Rome
BEGIN:VEVENT
UID:0-47@povo.diocesitn.it
DTSTART;TZID=Europe/Rome;VALUE=DATE:20201031
DTEND;TZID=Europe/Rome;VALUE=DATE:20201108
DTSTAMP:20201031T084133Z
URL:https://povo.diocesitn.it/events/intenzioni-sante-messe-per-i-defunti/
SUMMARY:Foglietto settimanale domenicale
DESCRIPTION:\n\n\n\nCamminiamo Insieme\n\n 	 N. 40  Anno V – Foglietto s
 ettimanale della Parrocchia santi Pietro e Andrea – Povo\n\nTel.0461 810
 420 – e-mail: povo@parrocchietn.it – http://povo.diocesitn.it/\n\n\n\n
 \n\n\n1 novembre: TUTTI I SANTI\n\nDal Vangelo secondo Matteo 5\,1-12\nIn 
 quel tempo\, vedendo le folle\, Gesù salì sul monte:\n\nsi pose a sedere
  e si avvicinarono a lui i suoi discepoli.\n\nSi mise a parlare e insegnav
 a loro dicendo:\n«Beati i poveri in spirito\,\nperché di essi è il regn
 o dei cieli.\nBeati quelli che sono nel pianto\,\nperché saranno consolat
 i.\nBeati i miti\,\nperché avranno in eredità la terra.\nBeati quelli ch
 e hanno fame e sete della giustizia\,\nperché saranno saziati.\nBeati i m
 isericordiosi\,\nperché troveranno misericordia.\nBeati i puri di cuore\,
 \nperché vedranno Dio.\nBeati gli operatori di pace\,\nperché saranno ch
 iamati figli di Dio.\nBeati i perseguitati per la giustizia\,\nperché di 
 essi è il regno dei cieli.\nBeati voi quando vi insulteranno\, vi persegu
 iteranno e\, mentendo\, diranno ogni sorta di male contro di voi per causa
  mia. Rallegratevi ed esultate\, perché grande è la vostra ricompensa ne
 i cieli».\nParola del Signore\nPER RIFLETTERE \np. Ermes Ronchi\n I sant
 i sono gli uomini e le donne delle Beatitudini\nI santi sono gli uomini de
 lle Beatitudini. Queste parole sono il cuore del Vangelo\, il racconto di 
 come passava nel mondo l'uomo Gesù\, e per questo sono il volto alto e pu
 ro di ogni uomo\, le nuove ipotesi di umanità. Sono il desiderio prepoten
 te di un tutt'altro modo di essere uomini\, il sogno di un mondo fatto di 
 pace\, di sincerità\, di giustizia\, di cuori limpidi.\nAl cuore del Vang
 elo c'è per nove volte la parola beati\, c'è un Dio che si prende cura d
 ella gioia dell'uomo\, tracciandogli i sentieri. Come al solito\, inattesi
 \, controcorrente. E restiamo senza fiato\, di fronte alla tenerezza e all
 o splendore di queste parole.\nLe Beatitudini riassumono la bella notizia\
 , l'annuncio gioioso che Dio regala vita a chi produce amore\, che se uno 
 si fa carico della felicità di qualcuno il Padre si fa carico della sua f
 elicità.\nQuando vengono proclamate sanno ancora affascinarci\, poi uscia
 mo di chiesa e ci accorgiamo che per abitare la terra\, questo mondo aggre
 ssivo e duro\, ci siamo scelti il manifesto più difficile\, incredibile\,
  stravolgente e contromano che l'uomo possa pensare.\nLa prima dice: beati
  voi poveri. E ci saremmo aspettati: perché ci sarà un capovolgimento\, 
 perché diventerete ricchi.\nNo. Il progetto di Dio è più profondo e vas
 to. Beati voi poveri\, perché vostro è il Regno\, già adesso\, non nell
 'altra vita! Beati\, perché c'è più Dio in voi\, più libertà\, più f
 uturo\nBeati perché custodite la speranza di tutti. In questo mondo dove 
 si fronteggiano lo spreco e la miseria\, un esercito silenzioso di uomini 
 e donne preparano un futuro buono: costruiscono pace\, nel lavoro\, in fam
 iglia\, nelle istituzioni\; sono ostinati nel proporsi la giustizia\, ones
 ti anche nelle piccole cose\, non conoscono doppiezza. Gli uomini delle Be
 atitudini\, ignoti al mondo\, quelli che non andranno sui giornali\, sono 
 invece i segreti legislatori della storia\nLa seconda è la Beatitudine pi
 ù paradossale: beati quelli che sono nel pianto. In piedi\, in cammino\, 
 rialzatevi voi che mangiate un pane di lacrime\, dice il salmo. Dio è dal
 la parte di chi piange ma non dalla parte del dolore! Un angelo misterioso
  annuncia a chiunque piange: il Signore è con te. Dio non ama il dolore\,
  è con te nel riflesso più profondo delle tue lacrime\, per moltiplicare
  il coraggio\, per fasciare il cuore ferito\, nella tempesta è al tuo fia
 nco\, forza della tua forza\nLa parola chiave delle Beatitudini è felicit
 à. Sant'Agostino\, che redige un'opera intera sulla vita beata\, scrive: 
 abbiamo parlato della felicità\, e non conosco valore che maggiormente si
  possa ritenere dono di Dio. Dio non solo è amore\, non solo misericordia
 \, Dio è anche felicità. Felicità è uno dei nomi di Dio.\n\n\n\n\n\nPr
 eghiamo\nDio onnipotente ed eterno\,\nche doni alla tua Chiesa\nla gioia d
 i celebrare in un’unica festa\ni meriti e la gloria di tutti i Santi\,\n
 concedi al tuo popolo\,\nper la comune intercessione\ndi tanti nostri frat
 elli\,\nl’abbondanza della tua misericordia.\nPer il nostro Signore Ges
 ù Cristo...\n\n\n\n\n&nbsp\;\nINTENZIONI SANTE MESSE PER I DEFUNTI\ndal 3
 1 ottobre al 7 novembre 2020\n\n\n\n\nSabato        31 ottobre\n18.
 30\nMaria Teresa\; Antonio\; Ezio e Anna Tomasi\;\n\n\nDomenica  1 novemb
 re\n8.00\nTeresa\;\n\n\nLunedì        2 novembre\n8.00\nGuido e An
 tonietta\;\n\n\nMartedì       novembre\n8.00\nGemma\; Giuseppina\; 
 Angelo\;\n\n\nMercoledì 4 novembre\n8.00\nEnrico e Maria\;\n\n\nGiovedì
       5 novembre\n8.00\nVirginia\; Teresina\; Carlo e Rita\; Giuseppi
 na e Umberto\;\n\n\nVenerdì     6 novembre\n8.00\n\n\n\nSabato    
   7 novembre\n18.30\nElda Fronza\; Maria Teresa\;\n\n\n\n&nbsp\;
END:VEVENT
BEGIN:VTIMEZONE
TZID:Europe/Rome
X-LIC-LOCATION:Europe/Rome
BEGIN:STANDARD
DTSTART:20201025T020000
TZOFFSETFROM:+0200
TZOFFSETTO:+0100
TZNAME:CET
END:STANDARD
END:VTIMEZONE
END:VCALENDAR