BEGIN:VCALENDAR
VERSION:2.0
PRODID:-//wp-events-plugin.com//6.6.3//EN
TZID:Europe/Rome
X-WR-TIMEZONE:Europe/Rome
BEGIN:VEVENT
UID:0-31@povo.diocesitn.it
DTSTART;TZID=Europe/Rome:20200330T000000
DTEND;TZID=Europe/Rome:20200412T000000
DTSTAMP:20200411T073132Z
URL:https://povo.diocesitn.it/events/intenzioni-sante-messe-per-i-defunti-
 dal-4-all-11-aprile-2020/
SUMMARY:Defunti il 30 marzo ed il 1° Aprile - Intenzione sante Messe per i
  defunti dall'11 al 18 aprile 2020
DESCRIPTION:INTENZIONI SANTE MESSE PER I DEFUNTI 11-18 Aprile\n\nDEFUNTI  
 il 30 marzo edil 1° aprile\n\n&nbsp\;
END:VEVENT
BEGIN:VTIMEZONE
TZID:Europe/Rome
X-LIC-LOCATION:Europe/Rome
BEGIN:DAYLIGHT
DTSTART:20200329T030000
TZOFFSETFROM:+0100
TZOFFSETTO:+0200
TZNAME:CEST
END:DAYLIGHT
END:VTIMEZONE
END:VCALENDAR