BEGIN:VCALENDAR
VERSION:2.0
PRODID:-//wp-events-plugin.com//6.6.3//EN
TZID:Europe/Rome
X-WR-TIMEZONE:Europe/Rome
BEGIN:VEVENT
UID:0-45@povo.diocesitn.it
DTSTART;TZID=Europe/Rome:20200711T000000
DTEND;TZID=Europe/Rome:20200718T000000
DTSTAMP:20200711T075119Z
URL:https://povo.diocesitn.it/events/intenzioni-sante-messe-per-i-defunti-
 dal-4-al-11-luglio-2020/
SUMMARY:INTENZIONI SANTE MESSE PER I DEFUNTI- dal 11 al 18 luglio 2020
DESCRIPTION:INTENZIONI SANTE MESSE PER I DEFUNTI    dal 11 al 18 luglio 
 2020\n\n\n\nSabato           11 luglio\nOre 18.30\nSilvano\;  s
 econdo intenzione\;\n\n\nDomenica     12 luglio\nOre   8.00\nValenti
 no Merz\; Erina\; Irma\, Pio e Guerrino\; Silvio\;\n\n\nLunedì      
      13 luglio\nOre   8.00\nSilvio\;\n\n\nMartedì        14
  luglio\nOre   8.00\nPaolina\;\n\n\nMercoledì    15 luglio\nOre   
 8.00\nPaolo e Enrica\; Giuseppe e Marta\;\n\n\nGiovedì        16 l
 uglio\nOre   8.00\nElsa e Bruno\; Carmen e Tarcisio\; padre Aurelio\;\n\
 n\nVenerdì       17 luglio\nOre   8.00\nErina\;\n\n\nSabato   
      18 luglio\nOre 18.30\nSaverio\, Ester e Celestino\;\n\n\n
END:VEVENT
BEGIN:VTIMEZONE
TZID:Europe/Rome
X-LIC-LOCATION:Europe/Rome
BEGIN:DAYLIGHT
DTSTART:20200329T030000
TZOFFSETFROM:+0100
TZOFFSETTO:+0200
TZNAME:CEST
END:DAYLIGHT
END:VTIMEZONE
END:VCALENDAR