BEGIN:VCALENDAR
VERSION:2.0
PRODID:-//wp-events-plugin.com//6.6.3//EN
TZID:Europe/Rome
X-WR-TIMEZONE:Europe/Rome
BEGIN:VEVENT
UID:0-147@povo.diocesitn.it
DTSTART;TZID=Europe/Rome;VALUE=DATE:20210612
DTEND;TZID=Europe/Rome;VALUE=DATE:20210620
DTSTAMP:20210612T065203Z
URL:https://povo.diocesitn.it/events/intenzioni-sante-messe-per-i-defunti-
 4/
SUMMARY:Intenzioni Sante Messe per i defunti
DESCRIPTION:Intenzioni Sante Messe per i defunti\ndal 12 maggio al 19  giu
 gno 2021\n\n\n\n\nSabato 12/6\n18:30\nAntonio Pedrel\n\n\nDomenica 13/6\n8
 :00\nSilvio\; Antonietta\; Silvano\n\n\nLunedì 14/6\n8:00\nPaolina e Pier
 ina\; Elisa\n\n\nMartedì 15/6\n8:00\nPaolo ed Enrica\n\n\nMercoledì 16/6
 \n8:00\n\n\n\nGiovedì 17/6\n8:00\n\n\n\nVenerdì 18/6\n8:00\nArmando Pedr
 otti\; Secondo intenzione\n\nofferente\n\n\nSabato 19/6\n18:30\n\n\n\n
END:VEVENT
BEGIN:VTIMEZONE
TZID:Europe/Rome
X-LIC-LOCATION:Europe/Rome
BEGIN:DAYLIGHT
DTSTART:20210328T030000
TZOFFSETFROM:+0100
TZOFFSETTO:+0200
TZNAME:CEST
END:DAYLIGHT
END:VTIMEZONE
END:VCALENDAR