BEGIN:VCALENDAR
VERSION:2.0
PRODID:-//wp-events-plugin.com//6.6.3//EN
TZID:Europe/Rome
X-WR-TIMEZONE:Europe/Rome
BEGIN:VEVENT
UID:0-129@povo.diocesitn.it
DTSTART;TZID=Europe/Rome:20210424T000000
DTEND;TZID=Europe/Rome:20210501T000000
DTSTAMP:20210425T065621Z
URL:https://povo.diocesitn.it/events/intenzioni-sante-messe-per-i-defunti-
 2/
SUMMARY:INTENZIONI SANTE MESSE PER I DEFUNTI
DESCRIPTION:INTENZIONI SANTE MESSE PER I DEFUNTI\ndal 24 aprile all’1 mag
 gio 2021\n\n\n\n\nSabato 24/4\n18.30\nRegina e Vittorio\; Rino e Maria\; f
 am. Margoni.\n\n\nDomenica 25/4\n8:00\nAugusto Marcon\; Carmen e Tarcisio.
 \n\n\nLunedì 26/4\n8.00\nRita e Carlo\; Rosa Corn\; Paolo e Anna Maria\n\
 n\nMartedì 27/4\n8.00\nAnna\, Antonietta e Giovanni Bertotti\n\n\nMercole
 dì 28/4\n8.00\nLuigi\, Maria e Letizia\n\n\nGiovedì 29/4\n8.00\nNello\n\
 n\nVenerdì 30/4\n8.00\nDario\, Domenico e Carmela Giacomoni\n\n\nSabato 0
 1/5\n18.30\nMaria\; Rita Laner\; fam. Pedrini\; Maria\nTeresa\; defunti\, 
 soci\, delle ACLI di Povo\n\n\n\n&nbsp\;
END:VEVENT
BEGIN:VTIMEZONE
TZID:Europe/Rome
X-LIC-LOCATION:Europe/Rome
BEGIN:DAYLIGHT
DTSTART:20210328T030000
TZOFFSETFROM:+0100
TZOFFSETTO:+0200
TZNAME:CEST
END:DAYLIGHT
END:VTIMEZONE
END:VCALENDAR