BEGIN:VCALENDAR
VERSION:2.0
PRODID:-//wp-events-plugin.com//6.6.3//EN
TZID:Europe/Rome
X-WR-TIMEZONE:Europe/Rome
BEGIN:VEVENT
UID:0-141@povo.diocesitn.it
DTSTART;TZID=Europe/Rome:20210508T000000
DTEND;TZID=Europe/Rome:20210515T000000
DTSTAMP:20210508T115840Z
URL:https://povo.diocesitn.it/events/intenzioni-s-messe-per-i-defunti/
SUMMARY:Intenzioni S. Messe per i defunti
DESCRIPTION:Intenzioni S. Messe per i defunti\ndall'8 al 15 Maggio\n\n\n\n\
 nSabato         08/5\n18:30\nNicola\; Elda Fronza\; Emilia\, Anna ed E
 rminia\n\n\nDomenica   09/5\n8:00\nCarmela e Lino\; Fiorina\n\n\nLunedì 
         10/5\n8:00\nEnrica e Paolo\; Luigi\n\n\nMartedì       11/5
 \n8:00\nSilvano\n\n\nMercoledì   12/5\n8:00\nLuigi\, Maria e Letizia\n\n
 \nGiovedì       13/5\n8:00\nCarlo\; Silvio\n\n\nVenerdì       14/5
 \n8:00\nPaolina e Pierina\n\n\nSabato         15/5\n18:30\n\n\n\n
END:VEVENT
BEGIN:VTIMEZONE
TZID:Europe/Rome
X-LIC-LOCATION:Europe/Rome
BEGIN:DAYLIGHT
DTSTART:20210328T030000
TZOFFSETFROM:+0100
TZOFFSETTO:+0200
TZNAME:CEST
END:DAYLIGHT
END:VTIMEZONE
END:VCALENDAR