BEGIN:VCALENDAR
VERSION:2.0
PRODID:-//wp-events-plugin.com//6.6.3//EN
TZID:Europe/Rome
X-WR-TIMEZONE:Europe/Rome
BEGIN:VEVENT
UID:0-34@povo.diocesitn.it
DTSTART;TZID=Europe/Rome;VALUE=DATE:20200619
DTEND;TZID=Europe/Rome;VALUE=DATE:20200628
DTSTAMP:20200627T072409Z
URL:https://povo.diocesitn.it/events/intenzioni-di-messe-per-i-defunti-dal
 -18-al-25-aprile/
SUMMARY:Intenzioni di Messe per i defunti dal 20 al 27 giugno 2020
DESCRIPTION:INTENZIONI SANTE MESSE PER I DEFUNTI    dal 27 giugno al 4 l
 uglio 2020\n\n\n\n\nSabato         27 giugno\nOre 18.30\nLuigi\; d
 efunti famiglia Margoni\;\n\n\nDomenica   28 giugno\nOre   8.00\nAnton
 io e Ezio\; Erina\;\n\n\nLunedì         29 giugno\nOre   8.00\n
 Nello\; secondo intenzione dell’offerente\;\n\n\nMartedì      30 g
 iugno\nOre   8.00\nAntonietta\; secondo intenzione dell’offerente\;\n\
 n\nMercoledì    1 luglio\nOre   8.00\nInes\; secondo intenzione dell
 ’offerente\;\n\n\nGiovedì        2 luglio\nOre   8.00\nGiusepp
 e Calliari\; Maurizio\;\n\n\nVenerdì       3 luglio\nOre   8.00\n
 Erina\; Mauro\;\n\n\nSabato        4 luglio\nOre 18.30\nElda Fronza
 \; Giovanna e Virgilio\; Enrico e Maria\;\n\ndefunti famiglia Pedrini\;\n\
 n\n\n&nbsp\;
END:VEVENT
BEGIN:VTIMEZONE
TZID:Europe/Rome
X-LIC-LOCATION:Europe/Rome
BEGIN:DAYLIGHT
DTSTART:20200329T030000
TZOFFSETFROM:+0100
TZOFFSETTO:+0200
TZNAME:CEST
END:DAYLIGHT
END:VTIMEZONE
END:VCALENDAR