BEGIN:VCALENDAR
VERSION:2.0
PRODID:-//wp-events-plugin.com//6.6.3//EN
TZID:Europe/Rome
X-WR-TIMEZONE:Europe/Rome
BEGIN:VEVENT
UID:0-132@povo.diocesitn.it
DTSTART;TZID=Europe/Rome:20210508T000000
DTEND;TZID=Europe/Rome:20210508T000000
DTSTAMP:20210501T125656Z
URL:https://povo.diocesitn.it/events/intenzioni-delle-sante-messe-per-i-de
 funti/
SUMMARY:Intenzioni delle Sante Messe per i defunti
DESCRIPTION: Intenzioni delle Sante Messe per i defunti\ndall'1 all'8 maggi
 o 2021\n\n\n\n\nSabato         01/5\n18:30\nMaria\; Rita Laner\; f
 am. Pedrini\; Maria Teresa\;\n\nTutti i defunti\, soci\, delle ACLI di Pov
 o\n\n\nDomenica   02/5\n8:00\n\n\n\nLunedì         03/5\n8:00\n
 \n\n\nMartedì       04/5\n8:00\nRenata De Angelis\; Enrico e Maria\
 n\n\nMercoledì   05/5\n8:00\nGiuseppina e Umberto\; Carlo e Rita\; Tere
 sina\; Cecilia\n\n\nGiovedì        06/5\n8:00\n\n\n\nVenerdì  
      07/5\n8:00\nAntonietta\n\n\nSabato         08/5\n18:30\nN
 icola\; Elda Fronza\; Emilia\, Anna ed Erminia\n\n\n
END:VEVENT
BEGIN:VTIMEZONE
TZID:Europe/Rome
X-LIC-LOCATION:Europe/Rome
BEGIN:DAYLIGHT
DTSTART:20210328T030000
TZOFFSETFROM:+0100
TZOFFSETTO:+0200
TZNAME:CEST
END:DAYLIGHT
END:VTIMEZONE
END:VCALENDAR