BEGIN:VCALENDAR
VERSION:2.0
PRODID:-//wp-events-plugin.com//6.6.3//EN
TZID:Europe/Rome
X-WR-TIMEZONE:Europe/Rome
BEGIN:VEVENT
UID:0-46@povo.diocesitn.it
DTSTART;TZID=Europe/Rome:20200718T000000
DTEND;TZID=Europe/Rome:20200725T000000
DTSTAMP:20200718T100636Z
URL:https://povo.diocesitn.it/events/intenzione-sante-messe-per-i-defunti/
SUMMARY:Intenzione sante Messe  per i defunti
DESCRIPTION:INTENZIONI SANTE MESSE PER I DEFUNTI    dal 18 al 25 luglio 
 2020\n\n\n\n\nSabato           18 luglio\nOre 18.30\nSaverio\, E
 ster e Celestino\;\n\n\nDomenica     19 luglio\nOre   8.00\nLuigi\, 
 Maria e Letizia\; Arturo e Ines Gretter\;\n\n\nLunedì          
  20 luglio\nOre   8.00\nFiorina e Domenica\; secondo intenzione\;\n\n\n
 Martedì        21 luglio\nOre   8.00\nLuciana Tomasi\; Angela e 
 Ida\;\n\n\nMercoledì    22 luglio\nOre   8.00\nMaria e Ernesto\; Rit
 a e Carlo\; Natalina\;\n\n\nGiovedì        23 luglio\nOre   8.00
 \nArcangelo e Cristina\; secondo intenzione\;\n\n\nVenerdì       24
  luglio\nOre   8.00\nGiorgio\; Silvano Forti\;\n\n\nSabato       
  25 luglio\nOre 18.30\n\n\n\n
END:VEVENT
BEGIN:VTIMEZONE
TZID:Europe/Rome
X-LIC-LOCATION:Europe/Rome
BEGIN:DAYLIGHT
DTSTART:20200329T030000
TZOFFSETFROM:+0100
TZOFFSETTO:+0200
TZNAME:CEST
END:DAYLIGHT
END:VTIMEZONE
END:VCALENDAR