BEGIN:VCALENDAR
VERSION:2.0
PRODID:-//wp-events-plugin.com//6.6.3//EN
TZID:Europe/Rome
X-WR-TIMEZONE:Europe/Rome
BEGIN:VEVENT
UID:0-122@povo.diocesitn.it
DTSTART;TZID=Europe/Rome:20210410T000000
DTEND;TZID=Europe/Rome:20210417T000000
DTSTAMP:20210409T114137Z
URL:https://povo.diocesitn.it/events/intenzione-messe-per-i-defunti/
SUMMARY:Intenzione Messe per i defunti
DESCRIPTION:INTENZIONI SANTE MESSE PER I DEFUNTI   \ndal 10 al 17 aprile
  2021\n\n\n\n\nSabato 10/4\n18:30\nElda Fronza\; Antonio\; Giuseppina Casn
 a\; Giorgio Bragagna.\n\n\nDomenica  11/4\n8:00\nCarmela e Lino\; Enrica 
 e Paolo\; Silvano\; Andrea Gaiga\; Pia e Giulio\n\n\nLunedì        
 12/4\n08:00\n\n\n\nMartedì      13/4\n08:00\nSilvio\; Lino\n\n\nMerc
 oledì   14/4\n8.00\nPaolina e Pierina\n\n\nGiovedì        15/4\n
 8:00\nPaolo ed Enrica\n\n\nVenerdì       16/4\n 8:00\nGiuliano\n\n
 \nSabato         17/4\n 18.30\nLuigi e Ines\n\n\n\n&nbsp\;
END:VEVENT
BEGIN:VTIMEZONE
TZID:Europe/Rome
X-LIC-LOCATION:Europe/Rome
BEGIN:DAYLIGHT
DTSTART:20210328T030000
TZOFFSETFROM:+0100
TZOFFSETTO:+0200
TZNAME:CEST
END:DAYLIGHT
END:VTIMEZONE
END:VCALENDAR