BEGIN:VCALENDAR
VERSION:2.0
PRODID:-//wp-events-plugin.com//6.6.3//EN
TZID:Europe/Rome
X-WR-TIMEZONE:Europe/Rome
BEGIN:VEVENT
UID:0-79@povo.diocesitn.it
DTSTART;TZID=Europe/Rome:20201212T000000
DTEND;TZID=Europe/Rome:20201219T000000
DTSTAMP:20201212T171359Z
URL:https://povo.diocesitn.it/events/incontri-prenatalizi-di-catechesi/
SUMMARY:Incontri prenatalizi di CATECHESI
DESCRIPTION:I N C O N T R I prenatalizi di CATECHESI\n\n\n\n 	Venerdì 18/1
 2 - ore 16.15 – in oratorio – catechesi ragazzi II media (lilla e gial
 lo)\n 	Venerdì 18/12 - ore 17.00 – chiesa Povo – catechesi bambini II
  elementare\n 	Sabato 19/12  - ore 10.00 – chiesa Oltrecastello – cat
 echesi ragazzi II media (gruppo blu)\n
END:VEVENT
BEGIN:VTIMEZONE
TZID:Europe/Rome
X-LIC-LOCATION:Europe/Rome
BEGIN:STANDARD
DTSTART:20201025T020000
TZOFFSETFROM:+0200
TZOFFSETTO:+0100
TZNAME:CET
END:STANDARD
END:VTIMEZONE
END:VCALENDAR