BEGIN:VCALENDAR
VERSION:2.0
PRODID:-//wp-events-plugin.com//6.6.3//EN
TZID:Europe/Rome
X-WR-TIMEZONE:Europe/Rome
BEGIN:VEVENT
UID:0-95@povo.diocesitn.it
DTSTART;TZID=Europe/Rome:20210201T000000
DTEND;TZID=Europe/Rome:20210204T000000
DTSTAMP:20210201T094927Z
URL:https://povo.diocesitn.it/events/incontri-di-di-preghiera-e-di-cateche
 si/
SUMMARY:Incontro di preghiera per le vocazioni - Giovedì 04 febbraio ore 
 20.00 nella chiesa di Villazzano
DESCRIPTION:
END:VEVENT
BEGIN:VTIMEZONE
TZID:Europe/Rome
X-LIC-LOCATION:Europe/Rome
BEGIN:STANDARD
DTSTART:20201025T020000
TZOFFSETFROM:+0200
TZOFFSETTO:+0100
TZNAME:CET
END:STANDARD
END:VTIMEZONE
END:VCALENDAR