BEGIN:VCALENDAR
VERSION:2.0
PRODID:-//wp-events-plugin.com//6.6.3//EN
TZID:Europe/Rome
X-WR-TIMEZONE:Europe/Rome
BEGIN:VEVENT
UID:0-98@povo.diocesitn.it
DTSTART;TZID=Europe/Rome:20210206T000000
DTEND;TZID=Europe/Rome:20210212T000000
DTSTAMP:20210206T202814Z
URL:https://povo.diocesitn.it/events/incontri-di-catechesi-venerdi-12-febb
 raio-in-chiesa-a-povo-ore-1700-per-i-bambini-di-iii-elementare/
SUMMARY:Incontri di Catechesi - Venerdì 12 febbraio in chiesa a Povo ore 1
 7:00 per i bambini di III Elementare
DESCRIPTION:Venerdì   12 febbraio      ore 17.00 chiesa Povo – ca
 techesi III elem.
END:VEVENT
BEGIN:VTIMEZONE
TZID:Europe/Rome
X-LIC-LOCATION:Europe/Rome
BEGIN:STANDARD
DTSTART:20201025T020000
TZOFFSETFROM:+0200
TZOFFSETTO:+0100
TZNAME:CET
END:STANDARD
END:VTIMEZONE
END:VCALENDAR