BEGIN:VCALENDAR
VERSION:2.0
PRODID:-//wp-events-plugin.com//6.6.3//EN
TZID:Europe/Rome
X-WR-TIMEZONE:Europe/Rome
BEGIN:VEVENT
UID:0-94@povo.diocesitn.it
DTSTART;TZID=Europe/Rome:20210130T000000
DTEND;TZID=Europe/Rome:20210130T000000
DTSTAMP:20210130T181150Z
URL:https://povo.diocesitn.it/events/incontri-di-catechesi-prima-settimana
 -di-febbraio/
SUMMARY:Incontri di catechesi - Prima settimana di febbraio
DESCRIPTION:I N C O N T R I \nSabato            30 gennaio   
    ore 10.00         chiesa Oltrecastello – catechesi II media
  (gruppo blu)\n\nGiovedì           04 febbraio    ore 20.00
         chiesa Villazzano – Veglia di preghiera per le vocazioni 
 (parrocchie di Povo e Villazzano)\n\nSabato            06 febbr
 aio     ore  9.30          chiesa di  Povo – catechesi IV
  elem.
END:VEVENT
BEGIN:VTIMEZONE
TZID:Europe/Rome
X-LIC-LOCATION:Europe/Rome
BEGIN:STANDARD
DTSTART:20201025T020000
TZOFFSETFROM:+0200
TZOFFSETTO:+0100
TZNAME:CET
END:STANDARD
END:VTIMEZONE
END:VCALENDAR