BEGIN:VCALENDAR
VERSION:2.0
PRODID:-//wp-events-plugin.com//6.6.3//EN
TZID:Europe/Rome
X-WR-TIMEZONE:Europe/Rome
BEGIN:VEVENT
UID:0-153@povo.diocesitn.it
DTSTART;TZID=Europe/Rome:20210529T000000
DTEND;TZID=Europe/Rome:20210604T000000
DTSTAMP:20210530T170332Z
URL:https://povo.diocesitn.it/events/incontri-di-catechesi-e-confessioni-b
 ambini/
SUMMARY:Incontri di catechesi e confessioni bambini
DESCRIPTION:Sabato 29 maggio\, ore 14.30\, chiesa di Povo – Prima riconci
 liazione III elementare\n\nGiovedì 03 giugno\, ore 17.00\, chiesa di Povo
  – incontro di catechesi e confessioni I media\n\nVenerdì 04 giugno\, o
 re 15.30 - 17:30\, chiesa di Povo – incontro di catechesi e confessioni 
 II media\n\nVenerdì 04 giugno\, ore 17:00 -1 8:00: II elementare\, incont
 ro a Villazzano dai Dehoniani (in caso di pioggia in Oratorio)
END:VEVENT
BEGIN:VTIMEZONE
TZID:Europe/Rome
X-LIC-LOCATION:Europe/Rome
BEGIN:DAYLIGHT
DTSTART:20210328T030000
TZOFFSETFROM:+0100
TZOFFSETTO:+0200
TZNAME:CEST
END:DAYLIGHT
END:VTIMEZONE
END:VCALENDAR