BEGIN:VCALENDAR
VERSION:2.0
PRODID:-//wp-events-plugin.com//6.6.3//EN
TZID:Europe/Rome
X-WR-TIMEZONE:Europe/Rome
BEGIN:VEVENT
UID:0-108@povo.diocesitn.it
DTSTART;TZID=Europe/Rome:20210306T000000
DTEND;TZID=Europe/Rome:20210306T000000
DTSTAMP:20210303T094536Z
URL:https://povo.diocesitn.it/events/incontri-di-catechesi-di-venerdi-5-e-
 sabato-6-marzo/
SUMMARY:Incontri di catechesi bambini di Venerdì 5 e Sabato 6 Marzo
DESCRIPTION:Venerdì 05 marzo ore 16.15 oratorio Povo – catechesi II medi
 a (gruppi lilla e giallo)\n\nSabato 06 marzo ore 9.30 chiesa Povo – cate
 chesi IV elem.\n\n Sabato 06 marzo ore 10.00 chiesa Oltrecastello – cate
 chesi II media (gruppo blu)
END:VEVENT
BEGIN:VTIMEZONE
TZID:Europe/Rome
X-LIC-LOCATION:Europe/Rome
BEGIN:STANDARD
DTSTART:20201025T020000
TZOFFSETFROM:+0200
TZOFFSETTO:+0100
TZNAME:CET
END:STANDARD
END:VTIMEZONE
END:VCALENDAR