BEGIN:VCALENDAR
VERSION:2.0
PRODID:-//wp-events-plugin.com//6.6.3//EN
TZID:Europe/Rome
X-WR-TIMEZONE:Europe/Rome
BEGIN:VEVENT
UID:0-102@povo.diocesitn.it
DTSTART;TZID=Europe/Rome:20210220T000000
DTEND;TZID=Europe/Rome:20210227T000000
DTSTAMP:20210221T082047Z
URL:https://povo.diocesitn.it/events/incontri-di-catechesi-della-settimana
 -a-povo-e-oltrecastello/
SUMMARY:Incontri di catechesi della settimana a Povo e Oltrecastello
DESCRIPTION:Sabato       20 febbraio        \n\nore   9:30 
        chiesa Povo – catechesi IV elem.\n\nore 10:00       c
 hiesa Oltrecastello – catechesi II media (gruppo blu)\n\nore 17.00   
     chiesa Povo  - catechesi I media.\n\nvenerdi 26:\n\nore 17:00 chie
 sa Povo  - catechesi II elementare\n\nSabato       27 febbraio\n\no
 re   9.30       oratorio e sala parrocchiale – catechesi V elem.
END:VEVENT
BEGIN:VTIMEZONE
TZID:Europe/Rome
X-LIC-LOCATION:Europe/Rome
BEGIN:STANDARD
DTSTART:20201025T020000
TZOFFSETFROM:+0200
TZOFFSETTO:+0100
TZNAME:CET
END:STANDARD
END:VTIMEZONE
END:VCALENDAR