BEGIN:VCALENDAR
VERSION:2.0
PRODID:-//wp-events-plugin.com//6.6.3//EN
TZID:Europe/Rome
X-WR-TIMEZONE:Europe/Rome
BEGIN:VEVENT
UID:0-99@povo.diocesitn.it
DTSTART;TZID=Europe/Rome:20210214T000000
DTEND;TZID=Europe/Rome:20210220T000000
DTSTAMP:20210214T150557Z
URL:https://povo.diocesitn.it/events/incontri-di-catechesi-a-povo-e-oltrec
 astello/
SUMMARY:Incontri di catechesi della settimana a Povo e Oltrecastello
DESCRIPTION:Venerdì     19 febbraio        ore  16.15    
   oratorio - catechesi II media (gruppi lilla e giallo)\n\nSabato    
    20 febbraio        ore   9.30        chiesa Povo – c
 atechesi IV elem.\n\nore 10.00       chiesa Oltrecastello – catech
 esi II media (gruppo blu)\n\nore 17.00       chiesa Povo  - cateche
 si I media
END:VEVENT
BEGIN:VTIMEZONE
TZID:Europe/Rome
X-LIC-LOCATION:Europe/Rome
BEGIN:STANDARD
DTSTART:20201025T020000
TZOFFSETFROM:+0200
TZOFFSETTO:+0100
TZNAME:CET
END:STANDARD
END:VTIMEZONE
END:VCALENDAR