BEGIN:VCALENDAR
VERSION:2.0
PRODID:-//wp-events-plugin.com//6.6.3//EN
TZID:Europe/Rome
X-WR-TIMEZONE:Europe/Rome
BEGIN:VEVENT
UID:0-75@povo.diocesitn.it
DTSTART;TZID=Europe/Rome:20201113T000000
DTEND;TZID=Europe/Rome:20201231T000000
DTSTAMP:20201113T092649Z
URL:https://povo.diocesitn.it/events/incentivi-fiscali-per-erogazioni-libe
 rali-effettuate-nel-2020-a-sostegno-delle-misure-di-contrasto-dellemergenz
 a-epidemiologica-da-covid/
SUMMARY:Incentivi fiscali per erogazioni liberali effettuate nel 2020 a fav
 ore della Parrocchia a sostegno delle misure di contrasto dell’emergenza
  epidemiologica da COVID
DESCRIPTION:PARROCCHIA SANTI PIETRO E ANDREA – POVO\nIncentivi fiscali pe
 r erogazioni liberali effettuate nel 2020 a sostegno delle misure di contr
 asto dell’emergenza epidemiologica da COVID\n        Come pensiam
 o sia noto a tutti\, l’epidemia COVID-19 ha avuto effetti a dir poco dev
 astanti sulle entrate e le risorse della Parrocchia a seguito dell’iso-l
 amento imposto\, e dell’arresto di ogni attività. Le offerte su cui la 
 stessa Parrocchia poteva contare hanno subìto una contrazione di oltre i 
 due terzi. Si sono azzerati gli introiti per le iniziative e le attività 
 che\, come ben sapete\, sono state tutte annullate\; le spese però sono r
 imaste inalterate\, specie quelle per le utenze.\nIl Governo italiano è o
 ra venuto incontro alle difficoltà economiche delle varie istituzioni pub
 bliche\, enti\, associazioni ed anche enti religiosi\, fra i quali le Parr
 occhie\, e con DL n.18/2020\, c.d. “Decreto Cura Italia” recentemente 
 convertito in legge\, prevede all’art.66 la possibilità di fruire da pa
 rte delle persone fisiche di una detrazione IRPEF pari al 30% per le eroga
 zioni liberali effettuate nel 2020\, in denaro e in natura\, per un ammont
 are della detrazione al massimo pari a € 30.000\, al fine di finanziare 
 gli interventi necessari al contenimento gestione dell’epidemia COVID-19
 .\nLe erogazioni liberali devono essere effettuate tramite sistemi di paga
 men-to tracciabili.\nCi vediamo costretti a chiedere ai parrocchiani di ve
 nire incontro alle difficoltà di ordine economico che stanno penalizzando
  oltre ogni immaginazione la Parrocchia\, con offerte\, secondo le disponi
 bilità di ciascuno\, usufruendo anche questa di possibilità derivante da
 l nuovo dettato legislativo.\nCerti di poter contare sulla sensibilità di
  ognuno di voi\, si ricorda che la donazione dovrà avvenire con bonifico 
 da effettuare sul c/c intestato alla Parrocchia Santi Pietro e Andrea\, co
 dice IBAN IT32 BO83 0401 8100 0001 0000 807\; causale: Erogazione liberale
  contenimento emergenza Covid-19.\nE’ possibile il rilascio di ricevuta\
 , che tuttavia non è indispensabile\, inviando e-mail di richiesta all’
 indirizzo povo@parrocchietn.it.\nNel ringraziare anticipatamente i donator
 i per il loro contributo che\, anche piccolo\, sarà di grande aiuto\, si 
 porgono cordiali saluti.\nil Parroco\nPovo\, 16 novembre 2020      
                                e il Consigli
 o Affari Economici
END:VEVENT
BEGIN:VTIMEZONE
TZID:Europe/Rome
X-LIC-LOCATION:Europe/Rome
BEGIN:STANDARD
DTSTART:20201025T020000
TZOFFSETFROM:+0200
TZOFFSETTO:+0100
TZNAME:CET
END:STANDARD
END:VTIMEZONE
END:VCALENDAR