BEGIN:VCALENDAR
VERSION:2.0
PRODID:-//wp-events-plugin.com//6.6.3//EN
TZID:Europe/Rome
X-WR-TIMEZONE:Europe/Rome
BEGIN:VEVENT
UID:0-86@povo.diocesitn.it
DTSTART;TZID=Europe/Rome:20210110T000000
DTEND;TZID=Europe/Rome:20210116T000000
DTSTAMP:20210109T105328Z
URL:https://povo.diocesitn.it/events/il-foglietto-della-settimana/
SUMMARY:Il foglietto della settimana
DESCRIPTION:\n\n\n\nCamminiamo Insieme\nN. 2 Anno VI– Foglietto settimana
 le della Parrocchia santi Pietro e Andrea – Povo\nTel.0461 810420 – e-
 mail: povo@parrocchietn.it – http://povo.diocesitn.it/\n\nSettimana dal 
 10 al 16 gennaio 2020 - Battesimo del Signore (anno B)\n\n\n\n\n\nDal Vang
 elo secondo Marco 1\,7-11\nIn quel tempo\, Giovanni proclamava: «Viene do
 po di me colui che è più forte di me: io non sono degno di chinarmi per 
 slegare i lacci dei suoi sandali. Io vi ho battezzato con acqua\, ma egli 
 vi battezzerà in Spirito Santo».\nEd ecco\, in quei giorni\, Gesù venne
  da Nàzaret di Galilea e fu battezzato nel Giordano da Giovanni. E\, subi
 to\, uscendo dall’acqua\, vide squarciarsi i cieli e lo Spirito discende
 re verso di lui come una colomba. E venne una voce dal cielo: «Tu sei il 
 Figlio mio\, l’amato: in te ho posto il mio compiacimento».\n\nParola d
 el Signore\n\n&nbsp\;\nPER RIFLETTERE (p. Ermes Ronchi)\nUn amore così gr
 ande che squarcia anche i cieli\nSulle rive del Giordano\, il Padre presen
 ta Gesù al mondo\, lo strappa all'anonimato dei trent'anni. Gesù non ave
 va alcun bisogno di farsi battezzare\, è come se avesse lui invece battez
 zato il Giordano\, santificato per contatto la creatura dell'acqua. Lo sa 
 e lo ripete il celebrante nella preghiera eucaristica terza: «Tu che fai 
 vivere e santifichi l'universo». Straordinaria teologia della creazione: 
 Tu che non solo dai vita all'uomo ma all'universo intero\; non solo dai vi
 ta alle cose\, ma le rendi sante! Santità del cielo\, dell'acqua\, della 
 terra\, delle stelle\, del filo d'erba\, del creato... «E subito\, uscend
 o dall'acqua vide squarciarsi i cieli e lo Spirito discendere verso di lui
  come una colomba». Sento tutta la bellezza e la potenza del verbo: si sq
 uarciano i cieli\, come per un amore incontenibile\; si lacerano\, si stra
 ppano sotto la pressione di Dio\, sotto l'urgenza di Adamo e dei poveri. S
 i spalancano come le braccia dell'amata per l'amato. Da questo cielo apert
 o e sonante di vita viene\, come colomba\, il respiro di Dio.\n\nUna danza
  dello Spirito sull'acqua è il primo movimento della Bibbia (Gen 1\,2). U
 na danza nelle acque del grembo materno è il primo movimento di ogni figl
 io della terra. Una colomba che danza sul fiume è l'inizio della vita pub
 blica di Gesù. Venne una voce dal cielo e disse: ?Tu sei il Figlio mio\, 
 l'amato\, il mio compiacimento?.\nTre parole potenti\, ma primo viene il t
 u\, la parola più importante del cosmo. Un io si rivolge a un tu. Il ciel
 o non è vuoto\, non è muto. E parla con le parole proprie di una nascita
 . Figlio è la prima parola\, un termine potente per il cuore. E per la fe
 de. Vertice della storia umana. Dio genera figli di Dio\, genera figli sec
 ondo la propria specie. E i generati\, io e tu\, tutti abbiamo una sorgent
 e nel cielo\, il cromosoma divino in noi.\n\nSeconda parola: il mio nome n
 on è solo figlio\, ma amato. Lo sono da subito\, da prima che io faccia q
 ualsiasi cosa\, prima che io risponda. Per quello che sono\, così come so
 no\, io sono amato. E che io sia amato dipende da lui\, non dipende da me.
 \n\nLa terza parola: in te ho posto il mio compiacimento. La Voce grida da
 ll'alto del cielo\, grida sul mondo e in mezzo al cuore\, la gioia di Dio:
  è bello stare con te. Ti amo\, figlio\, e mi piaci. Sono contento di te.
  Prima che tu mi dica sì\, prima ancora che tu apra il cuore\, tu mi dai 
 gioia\, sei bello\, un prodigio che guarda e respira e ama e si incanta. M
 a che gioia posso dare a Dio\, io con la mia vita accidentata e distratta\
 , io che ho così poco da restituire? Con tutte le volte che mi dimentico 
 di Lui? Eppure quelle tre parole sono per me\, lampada ai miei passi\, lum
 e acceso sul mio sentiero: figlio\, amato\, gioia mia.\n\n&nbsp\;\nINTENZI
 ONI SANTE MESSE PER I DEFUNTI  dal 10 al 16 Gennaio 2021\n&nbsp\;\n\n\n\nS
 abato 09 gennaio\n18.30\nGiuseppina\; Elda Fronza\; Regina e Vittorio.\n\n
 \nDomenica 10 gennaio\n8.00\nEnrica e Paolo\; Pierina\; Carmela e Lino\; C
 ristiano.\n\n\nLunedì 11 gennaio\n8.00\nGraziano\, Laura e Giorgio\; Silv
 ano.\n\n\nMartedì 12 gennaio\n8.00\n\n\n\n\nValentino Merz\; Lucia e Dieg
 o.\n\n\n\n\n\n\nMercoledì 13 gennaio\n8.00\nCarla\; Giancarlo Zanolini\; 
 Silvio\;\n\n\nGiovedì 14 gennaio\n8.00\nLaura\, Giorgio e Graziano\; Paol
 ina e Pierina.\n\n\nVenerdì 15 gennaio\n8.00\nPaolo ed Enrica.\n\n\nSabat
 o 16 gennaio\n18.30\nMarcello\; Luigi e Ines\;\n\n\n\n&nbsp\;\nINCONTRI IN
  PARROCCHIA\nSabato 09 gennaio\n\n 	ore 17.00 chiesa di Povo – catechesi
  IV elem.\n 	ore 10.00 chiesa Oltrecastello – catechesi II media (gruppo
  blu)\n\n&nbsp\;
END:VEVENT
BEGIN:VTIMEZONE
TZID:Europe/Rome
X-LIC-LOCATION:Europe/Rome
BEGIN:STANDARD
DTSTART:20201025T020000
TZOFFSETFROM:+0200
TZOFFSETTO:+0100
TZNAME:CET
END:STANDARD
END:VTIMEZONE
END:VCALENDAR