BEGIN:VCALENDAR
VERSION:2.0
PRODID:-//wp-events-plugin.com//6.6.3//EN
TZID:Europe/Rome
X-WR-TIMEZONE:Europe/Rome
BEGIN:VEVENT
UID:0-135@povo.diocesitn.it
DTSTART;TZID=Europe/Rome;VALUE=DATE:20210506
DTEND;TZID=Europe/Rome;VALUE=DATE:20210507
DTSTAMP:20210501T132940Z
URL:https://povo.diocesitn.it/events/giovedi-6-maggio-chiesa-villazzano-ve
 glia-di-preghiera-per-le-vocazioni-parrocchie-di-povo-e-villazzano/
SUMMARY:Giovedì 6 maggio\, ore 20:00: chiesa Villazzano –veglia di pregh
 iera per le vocazioni (parrocchie di Povo e Villazzano)
DESCRIPTION:
END:VEVENT
BEGIN:VTIMEZONE
TZID:Europe/Rome
X-LIC-LOCATION:Europe/Rome
BEGIN:DAYLIGHT
DTSTART:20210328T030000
TZOFFSETFROM:+0100
TZOFFSETTO:+0200
TZNAME:CEST
END:DAYLIGHT
END:VTIMEZONE
END:VCALENDAR