BEGIN:VCALENDAR
VERSION:2.0
PRODID:-//wp-events-plugin.com//6.6.3//EN
TZID:Europe/Rome
X-WR-TIMEZONE:Europe/Rome
BEGIN:VEVENT
UID:0-72@povo.diocesitn.it
DTSTART;TZID=Europe/Rome:20201103T000000
DTEND;TZID=Europe/Rome:20201105T000000
DTSTAMP:20201104T083818Z
URL:https://povo.diocesitn.it/events/giovedi-5-novembre-alle-20-le-comunit
 a-di-povo-e-villazzano-si-ritrovano-nella-chiesa-di-villazzano-per-la-vegl
 ia-di-preghiera-per-le-vocazioninella-chiesa-di-villazzano/
SUMMARY:Giovedì 5 novembre\, alle 20:30 le comunità di Povo e Villazzano 
 si ritrovano nella chiesa di Villazzano per la veglia di preghiera per le 
 vocazioni
DESCRIPTION:
END:VEVENT
BEGIN:VTIMEZONE
TZID:Europe/Rome
X-LIC-LOCATION:Europe/Rome
BEGIN:STANDARD
DTSTART:20201025T020000
TZOFFSETFROM:+0200
TZOFFSETTO:+0100
TZNAME:CET
END:STANDARD
END:VTIMEZONE
END:VCALENDAR