BEGIN:VCALENDAR
VERSION:2.0
PRODID:-//wp-events-plugin.com//6.6.3//EN
TZID:Europe/Rome
X-WR-TIMEZONE:Europe/Rome
BEGIN:VEVENT
UID:0-105@povo.diocesitn.it
DTSTART;TZID=Europe/Rome:20210221T000000
DTEND;TZID=Europe/Rome:20210227T000000
DTSTAMP:20210221T080427Z
URL:https://povo.diocesitn.it/events/foglietto-settimanale-20-27-febbraio/
SUMMARY:Foglietto settimanale 20-27 Febbraio
DESCRIPTION:\n\n\n\nCamminiamo Insieme\nN.7 Anno VI– Foglietto settimanal
 e della Parrocchia santi Pietro e Andrea – Povo\nTel.0461 810420 – e-m
 ail: povo@parrocchietn.it – http://povo.diocesitn.it/\n\nSettimana dal 2
 0 al 27 febbraio 2021\nDomenica 21 Febbraio 2021 - I Domenica di Quaresima
  Anno B\n\n\n\n\n\nDal Vangelo secondo Marco 1\,12-15\nIn quel tempo\, lo 
 Spirito sospinse Gesù nel deserto e nel deserto rimase quaranta giorni\, 
 tentato da Satana. Stava con le bestie selvatiche e gli angeli lo servivan
 o. Dopo che Giovanni fu arrestato\, Gesù andò nella Galilea\, proclamand
 o il vangelo di Dio\, e diceva: «Il tempo è compiuto e il regno di Dio 
 è vicino\; convertitevi e credete nel Vangelo».\n\n&nbsp\;\n\nParola del
  Signore\n\n
END:VEVENT
BEGIN:VTIMEZONE
TZID:Europe/Rome
X-LIC-LOCATION:Europe/Rome
BEGIN:STANDARD
DTSTART:20201025T020000
TZOFFSETFROM:+0200
TZOFFSETTO:+0100
TZNAME:CET
END:STANDARD
END:VTIMEZONE
END:VCALENDAR