BEGIN:VCALENDAR
VERSION:2.0
PRODID:-//wp-events-plugin.com//6.6.3//EN
TZID:Europe/Rome
X-WR-TIMEZONE:Europe/Rome
BEGIN:VEVENT
UID:0-92@povo.diocesitn.it
DTSTART;TZID=Europe/Rome:20210123T000000
DTEND;TZID=Europe/Rome:20210130T000000
DTSTAMP:20210123T104909Z
URL:https://povo.diocesitn.it/events/foglietto-domenicale/
SUMMARY:Foglietto domenicale
DESCRIPTION:\n\n\n\nCamminiamo Insieme\nN. 3 Anno VI– Foglietto settimana
 le della Parrocchia santi Pietro e Andrea – Povo\nTel.0461 810420 – e-
 mail: povo@parrocchietn.it – http://povo.diocesitn.it/\n\nSettimana dal 
 23 al 30 gennaio 2021 - III Domenica Tempo Ordinario (anno B)\n\n\n\n\nDal
  Vangelo secondo Marco\n\nMc 1\,14-20\nDopo che Giovanni fu arrestato\, Ge
 sù andò nella Galilea\, proclamando il vangelo di Dio\, e diceva: «Il t
 empo è compiuto e il regno di Dio è vicino\; convertitevi e credete nel 
 Vangelo».\nPassando lungo il mare di Galilea\, vide Simone e Andrea\, fra
 tello di Simone\, mentre gettavano le reti in mare\; erano infatti pescato
 ri. Gesù disse loro: «Venite dietro a me\, vi farò diventare pescatori 
 di uomini». E subito lasciarono le reti e lo seguirono.\nAndando un poco 
 oltre\, vide Giacomo\, figlio di Zebedèo\, e Giovanni suo fratello\, ment
 re anch’essi nella barca riparavano le reti. E subito li chiamò. Ed ess
 i lasciarono il loro padre Zebedèo nella barca con i garzoni e andarono d
 ietro a lui.\n\nParola del Signore\n\n\nPER RIFLETTERE\n\np. Ermes Ronchi\
 n\n\nChi lo segue sa che Dio dona tutto\, riempie le reti\n\n\n\nDopo che 
 Giovanni fu arrestato\, Gesù andò nella Galilea\, proclamando il vangelo
  di Dio (...) Passando lungo il mare di Galilea\, vide Simone e Andrea\, f
 ratello di Simone\, mentre gettavano le reti in mare\; erano infatti pesca
 tori. Gesù disse loro: «Venite dietro a me\, vi farò diventare pescator
 i di uomini». E subito lasciarono le reti e lo seguirono. Andando un poco
  oltre\, vide Giacomo\, figlio di Zebedèo\, e Giovanni suo fratello\, men
 tre anch'essi nella barca riparavano le reti. E subito li chiamò. Ed essi
  lasciarono il loro padre Zebedèo nella barca con i garzoni e andarono di
 etro a lui.\n\n\n\n\n«Passando lungo il mare di Galilea» (il paesaggio d
 'acque del lago è l'ambiente naturale preferito da Gesù) «vide Simone e
  Andrea che gettavano le reti in mare». Pescatori che svolgono la loro at
 tività quotidiana\, ed è lì che il Maestro li incontra. Dio si incarna 
 nella vita\, al tempio preferisce il tempo\, allo straordinario il piccolo
 . Come in tutta la Bibbia: Mosè e Davide sono incontrati mentre seguono l
 e loro greggi al pascolo\; Saul sta cercando le asine del padre\; Eliseo a
 ra la terra con sei paia di buoi\, Levi è seduto allo sportello delle imp
 oste... Nulla vi è di profano nell'amorosa fatica. E Gesù\, il figlio de
 l falegname\, che si è sporcato le mani con suo padre\, che sa riconoscer
 e ogni albero dalle venature e dal profumo del legno\, che si è fatto mat
 uro e forte nella fatica quotidiana\, lì ha incontrato l'esodo di Dio in 
 cerca delle sue creature: «Dio si trova in qualche modo sulla punta della
  mia penna\, del mio piccone\, del mio pennello\, del mio ago\, del mio cu
 ore\, del mio pensiero» (Teilhard de Chardin). Venite dietro a me vi far
 ò diventare pescatori di uomini. E subito lasciarono le reti e lo seguiro
 no. Neanche le recuperano\, le mollano in acqua\, e vanno\, come Eliseo ch
 e brucia l'aratro nei solchi del campo... «in tutta la Bibbia le azioni d
 icono il cuore» (A. Guida).\nGesù passa e mette in moto le vite. Dove st
 a la sua forza? Che cosa mancava ai quattro per convincerli a mollare tutt
 o per un mestiere improbabile come pescare uomini? Partire dietro a quel g
 iovane rabbi\, senza neppure sapere dove li avrebbe condotti? Avevano il l
 avoro\, una casa\, una famiglia\, la salute\, la fede\, tutto il necessari
 o\, eppure sentivano il morso di un'assenza: cos'è la vita? pescare\, man
 giare\, dormire? E poi di nuovo pescare\, mangiare\, dormire. Tutto qua? S
 apevano a memoria le rotte del lago. Gesù offre loro la rotta del mondo.\
 nInvece del piccolo cabotaggio dietro ai pesci\, offre un'avventura dentro
  il cuore di Dio e dei figli. Mancava un sogno\, e Gesù\, guaritore dei s
 ogni\, regala il sogno di cieli nuovi e terra nuova.\nGesù non spiega\, l
 oro non chiedono: e lasciati padre\, barca\, reti\, compagni di lavoro and
 arono dietro a lui.\nChi ha seguito il Nazareno\, ha sperimentato che Dio 
 riempie le reti\, riempie la vita\, moltiplica coraggio e fecondità. Che 
 non ruba niente e dona tutto. Che «rinunciare per lui è uguale a fiorire
 » (M. Marcolini).\nDue coppie di fratelli silenziosi sono il primo nucleo
  della fraternità universale\, il progetto di Gesù\, che parlerà di Dio
  con il linguaggio di casa (abbà)\, che vorrà estendere a livello di uma
 nità intera le relazioni familiari\, che ha sperimentato così belle e ge
 neratrici: tutti figli\, “fratelli tutti”.\n(Letture: Giona 3\, 1-5.10
 \; Salmo 24\; 1 Corinzi 7\, 29-31\; Marco 1\,14-20).\n\n\n\n\nINTENZIONI S
 ANTE MESSE PER I DEFUNTI dal 23 al 30 gennaio 2021\n\n\n\n\nSabato 23 genn
 aio\n18.30\nLina Fedrizzi\; Cesare\; Rina\; Franco\, Pina\, Annibale\n\n\n
 Domenica 24 gennaio\n8.00\nPierina\; Carmen e Tarcisio\; sr. Giuseppina\; 
 Gigliola.\n\n\nLunedì 25 gennaio\n8.00\nDario\, Carmela e Domenico Giacom
 oni\n\n\nMartedì 26 gennaio\n8.00\nRita e Carlo\; Agostino\, Carolina ed 
 Elio Corn\; secondo intenzione offerente\; Giuseppe Merz\; Giuliano\n\n\nM
 ercoledì 27 gennaio\n8.00\nRita\n\n\nGiovedì 28 gennaio\n8.00\nAnna\, Fe
 rruccio e Antonietta Bertotti\; Odorica e Angelo\n\n\nVenerdì 29 gennaio\
 n8.00\nNello\n\n\nSabato 30 gennaio\n18.30\nAntonio\n\n\n\nIINCONTRI IN PA
 RROCCHIA\nSabato 23 gennaio\n\n 	ore 30 chiesa di Povo – catechesi IV el
 em.\n\nVenerdì 29 gennaio\n\n 	ore 15 oratorio Povo – catechesi II medi
 a (gruppi lilla e giallo)\n\nSabato 30 gennaio\n\n 	ore 10.00 chiesa Oltre
 castello – catechesi II media (gruppo blu)\n 	\n 	Foglietto 24 gennaio\n
END:VEVENT
BEGIN:VTIMEZONE
TZID:Europe/Rome
X-LIC-LOCATION:Europe/Rome
BEGIN:STANDARD
DTSTART:20201025T020000
TZOFFSETFROM:+0200
TZOFFSETTO:+0100
TZNAME:CET
END:STANDARD
END:VTIMEZONE
END:VCALENDAR