BEGIN:VCALENDAR
VERSION:2.0
PRODID:-//wp-events-plugin.com//6.6.3//EN
TZID:Europe/Rome
X-WR-TIMEZONE:Europe/Rome
BEGIN:VEVENT
UID:0-181@povo.diocesitn.it
DTSTART;TZID=Europe/Rome:20230105T000000
DTEND;TZID=Europe/Rome:20230107T000000
DTSTAMP:20230105T184218Z
URL:https://povo.diocesitn.it/events/epifania/
SUMMARY:Epifania
DESCRIPTION:
END:VEVENT
BEGIN:VTIMEZONE
TZID:Europe/Rome
X-LIC-LOCATION:Europe/Rome
BEGIN:STANDARD
DTSTART:20221030T020000
TZOFFSETFROM:+0200
TZOFFSETTO:+0100
TZNAME:CET
END:STANDARD
END:VTIMEZONE
END:VCALENDAR